BEGIN:VCALENDAR
VERSION:2.0
PRODID:-//hacksw/handcal//NONSGML v1.0//EN
BEGIN:VEVENT
SUMMARY:peinture
UID:197e2d8f-27c5-435f-a551-2650ba17bb8e
DTSTART:20261113T083000Z
DTEND:20261113T110000Z
LOCATION:Localisation   
CATEGORIES:Entrainement
STATUS:
URL;VALUE=URI:https://www.acgr22.fr/evenements/2026/11/13/peinture-2441299
END:VEVENT
END:VCALENDAR
