BEGIN:VCALENDAR
VERSION:2.0
PRODID:-//hacksw/handcal//NONSGML v1.0//EN
BEGIN:VEVENT
SUMMARY:permanence - jeux de societe
UID:8611ecec-832e-4372-a4e6-38d051e8680a
DTSTART:20261113T123000Z
DTEND:20261113T153000Z
LOCATION:Localisation   
CATEGORIES:Entrainement
STATUS:
URL;VALUE=URI:https://www.acgr22.fr/evenements/2026/11/13/permanence-jeux-de-societe-2442375
END:VEVENT
END:VCALENDAR
