BEGIN:VCALENDAR
VERSION:2.0
PRODID:-//hacksw/handcal//NONSGML v1.0//EN
BEGIN:VEVENT
SUMMARY:photo
UID:fca3e996-bdad-41e6-9da1-7fd9d175c8b2
DTSTART:20261117T090000Z
DTEND:20261117T110000Z
LOCATION:Localisation   
CATEGORIES:Entrainement
STATUS:
URL;VALUE=URI:https://www.acgr22.fr/evenements/2026/11/17/photo-2442315
END:VEVENT
END:VCALENDAR
