BEGIN:VCALENDAR
VERSION:2.0
PRODID:-//hacksw/handcal//NONSGML v1.0//EN
BEGIN:VEVENT
SUMMARY:Rando 5km
UID:d191e5d8-497c-49fe-92c7-e7f2178bd0be
DTSTART:20261117T130000Z
DTEND:20261117T230000Z
LOCATION:Localisation   
CATEGORIES:Entrainement
STATUS:
URL;VALUE=URI:https://www.acgr22.fr/evenements/2026/11/17/rando-5km-2442404
END:VEVENT
END:VCALENDAR
