BEGIN:VCALENDAR
VERSION:2.0
PRODID:-//hacksw/handcal//NONSGML v1.0//EN
BEGIN:VEVENT
SUMMARY:musique
UID:9e439a64-060a-4b87-8028-67219b9f1fe5
DTSTART:20261118T083000Z
DTEND:20261118T110000Z
LOCATION:Localisation   
CATEGORIES:Entrainement
STATUS:
URL;VALUE=URI:https://www.acgr22.fr/evenements/2026/11/18/musique-2442297
END:VEVENT
END:VCALENDAR
