BEGIN:VCALENDAR
VERSION:2.0
PRODID:-//hacksw/handcal//NONSGML v1.0//EN
BEGIN:VEVENT
SUMMARY:tricot
UID:db69af2b-171c-4ed2-a293-81acbb60c6fa
DTSTART:20261118T130000Z
DTEND:20261118T160000Z
LOCATION:Localisation   
CATEGORIES:Entrainement
STATUS:
URL;VALUE=URI:https://www.acgr22.fr/evenements/2026/11/18/tricot-2441976
END:VEVENT
END:VCALENDAR
