BEGIN:VCALENDAR
VERSION:2.0
PRODID:-//hacksw/handcal//NONSGML v1.0//EN
BEGIN:VEVENT
SUMMARY:Rando 15km+++
UID:85df5e75-619f-4858-9425-63ac9ebf2970
DTSTART:20261119T120000Z
DTEND:20261119T230000Z
LOCATION:Localisation   
CATEGORIES:Entrainement
STATUS:
URL;VALUE=URI:https://www.acgr22.fr/evenements/2026/11/19/rando-15km-2442420
END:VEVENT
END:VCALENDAR
