BEGIN:VCALENDAR
VERSION:2.0
PRODID:-//hacksw/handcal//NONSGML v1.0//EN
BEGIN:VEVENT
SUMMARY:yoga
UID:cc97ee35-9e07-4d10-9b81-21ede2a09f87
DTSTART:20261119T080000Z
DTEND:20261119T093000Z
LOCATION:Localisation   
CATEGORIES:Entrainement
STATUS:
URL;VALUE=URI:https://www.acgr22.fr/evenements/2026/11/19/yoga-2442281
END:VEVENT
END:VCALENDAR
