BEGIN:VCALENDAR
VERSION:2.0
PRODID:-//hacksw/handcal//NONSGML v1.0//EN
BEGIN:VEVENT
SUMMARY:art floral
UID:02192b15-e7a1-4921-89e2-21f27525d05f
DTSTART:20261120T084500Z
DTEND:20261120T110000Z
LOCATION:Localisation   
CATEGORIES:Entrainement
STATUS:
URL;VALUE=URI:https://www.acgr22.fr/evenements/2026/11/20/art-floral-2441347
END:VEVENT
END:VCALENDAR
