BEGIN:VCALENDAR
VERSION:2.0
PRODID:-//hacksw/handcal//NONSGML v1.0//EN
BEGIN:VEVENT
SUMMARY:permanence - jeux de societe
UID:61d8f3c1-e0e4-40b3-959a-7dd53c36e696
DTSTART:20261120T123000Z
DTEND:20261120T153000Z
LOCATION:Localisation   
CATEGORIES:Entrainement
STATUS:
URL;VALUE=URI:https://www.acgr22.fr/evenements/2026/11/20/permanence-jeux-de-societe-2442374
END:VEVENT
END:VCALENDAR
