BEGIN:VCALENDAR
VERSION:2.0
PRODID:-//hacksw/handcal//NONSGML v1.0//EN
BEGIN:VEVENT
SUMMARY:Rando 8 km ou 12 km
UID:aa68905e-300e-4b65-a11d-380fa517bcf6
DTSTART:20261123T123000Z
DTEND:20261123T230000Z
LOCATION:Localisation   
CATEGORIES:Entrainement
STATUS:
URL;VALUE=URI:https://www.acgr22.fr/evenements/2026/11/23/rando-8-km-ou-12-km-2442388
END:VEVENT
END:VCALENDAR
