BEGIN:VCALENDAR
VERSION:2.0
PRODID:-//hacksw/handcal//NONSGML v1.0//EN
BEGIN:VEVENT
SUMMARY:couture
UID:4d97b4c8-8f20-4216-8191-1ed6421cb5fa
DTSTART:20261124T080000Z
DTEND:20261124T160000Z
LOCATION:Localisation   
CATEGORIES:Entrainement
STATUS:
URL;VALUE=URI:https://www.acgr22.fr/evenements/2026/11/24/couture-2441967
END:VEVENT
END:VCALENDAR
