BEGIN:VCALENDAR
VERSION:2.0
PRODID:-//hacksw/handcal//NONSGML v1.0//EN
BEGIN:VEVENT
SUMMARY:danse bretonne
UID:052a7e3c-61d9-44cc-a6d4-59245c4c1b2a
DTSTART:20261124T191500Z
DTEND:20261124T201500Z
LOCATION:Localisation   
CATEGORIES:Entrainement
STATUS:
URL;VALUE=URI:https://www.acgr22.fr/evenements/2026/11/24/danse-bretonne-2442328
END:VEVENT
END:VCALENDAR
