BEGIN:VCALENDAR
VERSION:2.0
PRODID:-//hacksw/handcal//NONSGML v1.0//EN
BEGIN:VEVENT
SUMMARY:Rando 5km
UID:2c4ecb4e-d5cb-46c6-a6bc-05cc798fb74a
DTSTART:20261124T130000Z
DTEND:20261124T230000Z
LOCATION:Localisation   
CATEGORIES:Entrainement
STATUS:
URL;VALUE=URI:https://www.acgr22.fr/evenements/2026/11/24/rando-5km-2442403
END:VEVENT
END:VCALENDAR
