BEGIN:VCALENDAR
VERSION:2.0
PRODID:-//hacksw/handcal//NONSGML v1.0//EN
BEGIN:VEVENT
SUMMARY:Rando 15km+++
UID:f5398707-1476-44ab-8aa6-c88f2d173a53
DTSTART:20261126T120000Z
DTEND:20261126T230000Z
LOCATION:Localisation   
CATEGORIES:Entrainement
STATUS:
URL;VALUE=URI:https://www.acgr22.fr/evenements/2026/11/26/rando-15km-2442419
END:VEVENT
END:VCALENDAR
