BEGIN:VCALENDAR
VERSION:2.0
PRODID:-//hacksw/handcal//NONSGML v1.0//EN
BEGIN:VEVENT
SUMMARY:yoga
UID:3d9e1717-dd04-4fbf-aa81-a2496ce90201
DTSTART:20261126T080000Z
DTEND:20261126T093000Z
LOCATION:Localisation   
CATEGORIES:Entrainement
STATUS:
URL;VALUE=URI:https://www.acgr22.fr/evenements/2026/11/26/yoga-2442280
END:VEVENT
END:VCALENDAR
