BEGIN:VCALENDAR
VERSION:2.0
PRODID:-//hacksw/handcal//NONSGML v1.0//EN
BEGIN:VEVENT
SUMMARY:art floral
UID:fa12682f-d630-433b-86d3-963220253c8f
DTSTART:20261127T084500Z
DTEND:20261127T110000Z
LOCATION:Localisation   
CATEGORIES:Entrainement
STATUS:
URL;VALUE=URI:https://www.acgr22.fr/evenements/2026/11/27/art-floral-2441348
END:VEVENT
END:VCALENDAR
