BEGIN:VCALENDAR
VERSION:2.0
PRODID:-//hacksw/handcal//NONSGML v1.0//EN
BEGIN:VEVENT
SUMMARY:permanence - jeux de societe
UID:fdf2a6b9-f5cd-4aa2-93df-08e91cb0c723
DTSTART:20261127T123000Z
DTEND:20261127T153000Z
LOCATION:Localisation   
CATEGORIES:Entrainement
STATUS:
URL;VALUE=URI:https://www.acgr22.fr/evenements/2026/11/27/permanence-jeux-de-societe-2442373
END:VEVENT
END:VCALENDAR
