BEGIN:VCALENDAR
VERSION:2.0
PRODID:-//hacksw/handcal//NONSGML v1.0//EN
BEGIN:VEVENT
SUMMARY:Granithon/Telethon
UID:7fe3ad3f-284f-4fd1-928e-f1926d89d7c1
DTSTART:20261128T123000Z
DTEND:20261128T163000Z
LOCATION:Localisation   
CATEGORIES:Sportif
STATUS:
URL;VALUE=URI:https://www.acgr22.fr/evenements/2026/11/28/granithontelethon-2442457
END:VEVENT
END:VCALENDAR
