BEGIN:VCALENDAR
VERSION:2.0
PRODID:-//hacksw/handcal//NONSGML v1.0//EN
BEGIN:VEVENT
SUMMARY:Rando 8 km
UID:6dabeefe-f125-4f6a-8c11-8667b68cabdc
DTSTART:20261129T080000Z
DTEND:20261129T230000Z
LOCATION:Localisation   
CATEGORIES:Entrainement
STATUS:
URL;VALUE=URI:https://www.acgr22.fr/evenements/2026/11/29/rando-8-km-2442434
END:VEVENT
END:VCALENDAR
