BEGIN:VCALENDAR
VERSION:2.0
PRODID:-//hacksw/handcal//NONSGML v1.0//EN
BEGIN:VEVENT
SUMMARY:danse bretonne
UID:3cba47f9-ee78-41f4-a3fd-77e2732232ad
DTSTART:20261201T191500Z
DTEND:20261201T201500Z
LOCATION:Localisation   
CATEGORIES:Entrainement
STATUS:
URL;VALUE=URI:https://www.acgr22.fr/evenements/2026/12/01/danse-bretonne-2442327
END:VEVENT
END:VCALENDAR
