BEGIN:VCALENDAR
VERSION:2.0
PRODID:-//hacksw/handcal//NONSGML v1.0//EN
BEGIN:VEVENT
SUMMARY:photo
UID:ce8cf3a8-815f-41a7-a338-fb549886bf3c
DTSTART:20261201T090000Z
DTEND:20261201T110000Z
LOCATION:Localisation   
CATEGORIES:Entrainement
STATUS:
URL;VALUE=URI:https://www.acgr22.fr/evenements/2026/12/01/photo-2442313
END:VEVENT
END:VCALENDAR
