BEGIN:VCALENDAR
VERSION:2.0
PRODID:-//hacksw/handcal//NONSGML v1.0//EN
BEGIN:VEVENT
SUMMARY:Rando 5km
UID:3dc385a1-c12b-47d3-a2a2-1fe5a5521cae
DTSTART:20261201T130000Z
DTEND:20261201T230000Z
LOCATION:Localisation   
CATEGORIES:Entrainement
STATUS:
URL;VALUE=URI:https://www.acgr22.fr/evenements/2026/12/01/rando-5km-2442402
END:VEVENT
END:VCALENDAR
