BEGIN:VCALENDAR
VERSION:2.0
PRODID:-//hacksw/handcal//NONSGML v1.0//EN
BEGIN:VEVENT
SUMMARY:danse en ligne
UID:b123ead4-f8dc-43bc-97c7-e561908b6be0
DTSTART:20261202T133000Z
DTEND:20261202T160000Z
LOCATION:Localisation   
CATEGORIES:Entrainement
STATUS:
URL;VALUE=URI:https://www.acgr22.fr/evenements/2026/12/02/danse-en-ligne-2442628
END:VEVENT
END:VCALENDAR
