BEGIN:VCALENDAR
VERSION:2.0
PRODID:-//hacksw/handcal//NONSGML v1.0//EN
BEGIN:VEVENT
SUMMARY:musique
UID:b2db60c4-5e99-4241-8e2a-b285e616d34e
DTSTART:20261202T083000Z
DTEND:20261202T110000Z
LOCATION:Localisation   
CATEGORIES:Entrainement
STATUS:
URL;VALUE=URI:https://www.acgr22.fr/evenements/2026/12/02/musique-2442295
END:VEVENT
END:VCALENDAR
