BEGIN:VCALENDAR
VERSION:2.0
PRODID:-//hacksw/handcal//NONSGML v1.0//EN
BEGIN:VEVENT
SUMMARY:Rando 15km+++
UID:fa6f55a8-ff36-4be7-bd22-3074f48d6f08
DTSTART:20261203T120000Z
DTEND:20261203T230000Z
LOCATION:Localisation   
CATEGORIES:Entrainement
STATUS:
URL;VALUE=URI:https://www.acgr22.fr/evenements/2026/12/03/rando-15km-2442418
END:VEVENT
END:VCALENDAR
