BEGIN:VCALENDAR
VERSION:2.0
PRODID:-//hacksw/handcal//NONSGML v1.0//EN
BEGIN:VEVENT
SUMMARY:sudoku (salle D )
UID:07f4357c-4d67-4972-88cf-aaaff2dc4216
DTSTART:20261203T083000Z
DTEND:20261203T103000Z
LOCATION:Localisation   
CATEGORIES:Entrainement
STATUS:
URL;VALUE=URI:https://www.acgr22.fr/evenements/2026/12/03/sudoku-salle-d-2442342
END:VEVENT
END:VCALENDAR
