BEGIN:VCALENDAR
VERSION:2.0
PRODID:-//hacksw/handcal//NONSGML v1.0//EN
BEGIN:VEVENT
SUMMARY:yoga
UID:c2c15cb6-8b65-4eaa-b6c7-8a5ee35ee87a
DTSTART:20261203T080000Z
DTEND:20261203T093000Z
LOCATION:Localisation   
CATEGORIES:Entrainement
STATUS:
URL;VALUE=URI:https://www.acgr22.fr/evenements/2026/12/03/yoga-2442279
END:VEVENT
END:VCALENDAR
