BEGIN:VCALENDAR
VERSION:2.0
PRODID:-//hacksw/handcal//NONSGML v1.0//EN
BEGIN:VEVENT
SUMMARY:peinture
UID:26440c68-0ff1-430f-a821-55df07b34329
DTSTART:20261204T083000Z
DTEND:20261204T110000Z
LOCATION:Localisation   
CATEGORIES:Entrainement
STATUS:
URL;VALUE=URI:https://www.acgr22.fr/evenements/2026/12/04/peinture-2441301
END:VEVENT
END:VCALENDAR
