BEGIN:VCALENDAR
VERSION:2.0
PRODID:-//hacksw/handcal//NONSGML v1.0//EN
BEGIN:VEVENT
SUMMARY:permanence - jeux de societe
UID:1c59ba76-8b7a-4b05-9d85-c3bdd2ca2dbc
DTSTART:20261204T123000Z
DTEND:20261204T153000Z
LOCATION:Localisation   
CATEGORIES:Entrainement
STATUS:
URL;VALUE=URI:https://www.acgr22.fr/evenements/2026/12/04/permanence-jeux-de-societe-2442372
END:VEVENT
END:VCALENDAR
