BEGIN:VCALENDAR
VERSION:2.0
PRODID:-//hacksw/handcal//NONSGML v1.0//EN
BEGIN:VEVENT
SUMMARY:Rando 8 km
UID:7224c1c3-72ce-496d-8536-c6132267e054
DTSTART:20261206T080000Z
DTEND:20261206T230000Z
LOCATION:Localisation   
CATEGORIES:Entrainement
STATUS:
URL;VALUE=URI:https://www.acgr22.fr/evenements/2026/12/06/rando-8-km-2442433
END:VEVENT
END:VCALENDAR
