BEGIN:VCALENDAR
VERSION:2.0
PRODID:-//hacksw/handcal//NONSGML v1.0//EN
BEGIN:VEVENT
SUMMARY:tricot et couture
UID:cccfee93-3fc2-4ef9-871b-b998e060dd83
DTSTART:20261207T080000Z
DTEND:20261207T110000Z
LOCATION:Localisation   
CATEGORIES:Entrainement
STATUS:
URL;VALUE=URI:https://www.acgr22.fr/evenements/2026/12/07/tricot-et-couture-2441969
END:VEVENT
END:VCALENDAR
