BEGIN:VCALENDAR
VERSION:2.0
PRODID:-//hacksw/handcal//NONSGML v1.0//EN
BEGIN:VEVENT
SUMMARY:couture
UID:88cecb7c-e411-4d00-ad84-3a0c2f1bc564
DTSTART:20261208T080000Z
DTEND:20261208T160000Z
LOCATION:Localisation   
CATEGORIES:Entrainement
STATUS:
URL;VALUE=URI:https://www.acgr22.fr/evenements/2026/12/08/couture-2441970
END:VEVENT
END:VCALENDAR
