BEGIN:VCALENDAR
VERSION:2.0
PRODID:-//hacksw/handcal//NONSGML v1.0//EN
BEGIN:VEVENT
SUMMARY:danse bretonne
UID:c1a51d03-46e3-4afb-9f9d-c5aa0ccf50c1
DTSTART:20261208T191500Z
DTEND:20261208T201500Z
LOCATION:Localisation   
CATEGORIES:Entrainement
STATUS:
URL;VALUE=URI:https://www.acgr22.fr/evenements/2026/12/08/danse-bretonne-2442321
END:VEVENT
END:VCALENDAR
