BEGIN:VCALENDAR
VERSION:2.0
PRODID:-//hacksw/handcal//NONSGML v1.0//EN
BEGIN:VEVENT
SUMMARY:photo
UID:61027418-5a6f-4bdd-9adc-4680904d870c
DTSTART:20261208T090000Z
DTEND:20261208T110000Z
LOCATION:Localisation   
CATEGORIES:Entrainement
STATUS:
URL;VALUE=URI:https://www.acgr22.fr/evenements/2026/12/08/photo-2442312
END:VEVENT
END:VCALENDAR
