BEGIN:VCALENDAR
VERSION:2.0
PRODID:-//hacksw/handcal//NONSGML v1.0//EN
BEGIN:VEVENT
SUMMARY:Rando 5km
UID:4f1e9322-d585-4d61-a1a8-d20d2b8a70c3
DTSTART:20261208T130000Z
DTEND:20261208T230000Z
LOCATION:Localisation   
CATEGORIES:Entrainement
STATUS:
URL;VALUE=URI:https://www.acgr22.fr/evenements/2026/12/08/rando-5km-2442396
END:VEVENT
END:VCALENDAR
