BEGIN:VCALENDAR
VERSION:2.0
PRODID:-//hacksw/handcal//NONSGML v1.0//EN
BEGIN:VEVENT
SUMMARY:echec -scrabble
UID:79961f28-9872-4874-ac4d-ba20b28afc9f
DTSTART:20261209T083000Z
DTEND:20261209T110000Z
LOCATION:Localisation   
CATEGORIES:Entrainement
STATUS:
URL;VALUE=URI:https://www.acgr22.fr/evenements/2026/12/09/echec-scrabble-2442351
END:VEVENT
END:VCALENDAR
