BEGIN:VCALENDAR
VERSION:2.0
PRODID:-//hacksw/handcal//NONSGML v1.0//EN
BEGIN:VEVENT
SUMMARY:musique
UID:e0ff8ed7-3e10-4204-ac3c-2fc8c9c8da4a
DTSTART:20261209T083000Z
DTEND:20261209T110000Z
LOCATION:Localisation   
CATEGORIES:Entrainement
STATUS:
URL;VALUE=URI:https://www.acgr22.fr/evenements/2026/12/09/musique-2442289
END:VEVENT
END:VCALENDAR
