BEGIN:VCALENDAR
VERSION:2.0
PRODID:-//hacksw/handcal//NONSGML v1.0//EN
BEGIN:VEVENT
SUMMARY:sudoku (salle D )
UID:96773e9b-1494-4885-a326-5191a9ee1a21
DTSTART:20261210T083000Z
DTEND:20261210T103000Z
LOCATION:Localisation   
CATEGORIES:Entrainement
STATUS:
URL;VALUE=URI:https://www.acgr22.fr/evenements/2026/12/10/sudoku-salle-d-2442336
END:VEVENT
END:VCALENDAR
