BEGIN:VCALENDAR
VERSION:2.0
PRODID:-//hacksw/handcal//NONSGML v1.0//EN
BEGIN:VEVENT
SUMMARY:peinture
UID:74f33bd0-d3ef-4709-9733-2f2098928ac7
DTSTART:20261211T083000Z
DTEND:20261211T110000Z
LOCATION:Localisation   
CATEGORIES:Entrainement
STATUS:
URL;VALUE=URI:https://www.acgr22.fr/evenements/2026/12/11/peinture-2441302
END:VEVENT
END:VCALENDAR
