BEGIN:VCALENDAR
VERSION:2.0
PRODID:-//hacksw/handcal//NONSGML v1.0//EN
BEGIN:VEVENT
SUMMARY:permanence - jeux de societe
UID:a9fefde8-36e6-4592-8ad4-e586dd4c6c2d
DTSTART:20261211T123000Z
DTEND:20261211T153000Z
LOCATION:Localisation   
CATEGORIES:Entrainement
STATUS:
URL;VALUE=URI:https://www.acgr22.fr/evenements/2026/12/11/permanence-jeux-de-societe-2442366
END:VEVENT
END:VCALENDAR
