BEGIN:VCALENDAR
VERSION:2.0
PRODID:-//hacksw/handcal//NONSGML v1.0//EN
BEGIN:VEVENT
SUMMARY:Rando 8 km
UID:dd59e8fa-7714-45d5-81e4-812dd2d66634
DTSTART:20261213T080000Z
DTEND:20261213T230000Z
LOCATION:Localisation   
CATEGORIES:Entrainement
STATUS:
URL;VALUE=URI:https://www.acgr22.fr/evenements/2026/12/13/rando-8-km-2442427
END:VEVENT
END:VCALENDAR
