BEGIN:VCALENDAR
VERSION:2.0
PRODID:-//hacksw/handcal//NONSGML v1.0//EN
BEGIN:VEVENT
SUMMARY:Rando 8 km ou 12 km
UID:a23a28fc-16d8-42c0-b980-c51c894b6071
DTSTART:20261214T123000Z
DTEND:20261214T230000Z
LOCATION:Localisation   
CATEGORIES:Entrainement
STATUS:
URL;VALUE=URI:https://www.acgr22.fr/evenements/2026/12/14/rando-8-km-ou-12-km-2442379
END:VEVENT
END:VCALENDAR
