BEGIN:VCALENDAR
VERSION:2.0
PRODID:-//hacksw/handcal//NONSGML v1.0//EN
BEGIN:VEVENT
SUMMARY:danse bretonne
UID:d7614b61-de62-441d-9352-0733ec24f556
DTSTART:20261215T191500Z
DTEND:20261215T201500Z
LOCATION:Localisation   
CATEGORIES:Entrainement
STATUS:
URL;VALUE=URI:https://www.acgr22.fr/evenements/2026/12/15/danse-bretonne-2442319
END:VEVENT
END:VCALENDAR
