BEGIN:VCALENDAR
VERSION:2.0
PRODID:-//hacksw/handcal//NONSGML v1.0//EN
BEGIN:VEVENT
SUMMARY:echec -scrabble
UID:6aeef052-3d81-4cc7-998e-44bc834e81e1
DTSTART:20261216T083000Z
DTEND:20261216T110000Z
LOCATION:Localisation   
CATEGORIES:Entrainement
STATUS:
URL;VALUE=URI:https://www.acgr22.fr/evenements/2026/12/16/echec-scrabble-2442349
END:VEVENT
END:VCALENDAR
