BEGIN:VCALENDAR
VERSION:2.0
PRODID:-//hacksw/handcal//NONSGML v1.0//EN
BEGIN:VEVENT
SUMMARY:musique
UID:1fba849a-e8f6-47cc-92e5-08fb435bc16e
DTSTART:20261216T083000Z
DTEND:20261216T110000Z
LOCATION:Localisation   
CATEGORIES:Entrainement
STATUS:
URL;VALUE=URI:https://www.acgr22.fr/evenements/2026/12/16/musique-2442287
END:VEVENT
END:VCALENDAR
