BEGIN:VCALENDAR
VERSION:2.0
PRODID:-//hacksw/handcal//NONSGML v1.0//EN
BEGIN:VEVENT
SUMMARY:Rando 15km+++
UID:d32b399d-8a9d-4796-a11d-4cf581fb52c0
DTSTART:20261217T120000Z
DTEND:20261217T230000Z
LOCATION:Localisation   
CATEGORIES:Entrainement
STATUS:
URL;VALUE=URI:https://www.acgr22.fr/evenements/2026/12/17/rando-15km-2442410
END:VEVENT
END:VCALENDAR
